Workbook

Sheet Калькулятор
A1: Калькулятор профитов стартовых данжей Aion 2
A2: Интерактивная таблица: учитывает раздельные пулы энергии для Мейна и Твинков, а также динамические штрафы.
A3: boosty.to/lootstat
A4: Параметры аккаунта (Редактируемые) | D4: Цены на Amplify кусок (Редактируемые)
A5: Количество твинков на аккаунте | B5: 0 | D5: Unique Amplify | E5: 12000
A6: Еженедельная энергия МЕЙНА | B6: 2440 | D6: Heroic Amplify | E6: 40000
A7: Еженедельная энергия ОДНОГО твинка | B7: 1160
A8: Стоимость одного захода (энергия) | B8: 80
A9: Суммарная энергия аккаунта в неделю | B9: =B6+B5*B7 -> 2440
A10: Суммарно заходов в неделю (аккаунт) | B10: =B9/B8 -> 30.5
A11: https://www.donationalerts.com/r/lootstat - поддержать развитие таблицы и коту на корм
A12: CONQUEST ДАНЖИ — расчет недельной доходности со штрафами
A13: Название данжа | B13: Время (мин) | C13: Энергия/заход | D13: Чистая кинара | E13: Средний профит с ресов за ран | F13: Средний профит за ран | G13: Заходов в неделю | H13: Часов в неделю | I13: Профит в час без ресов | J13: Профит в час с ресами | K13: Недельный профит | L13: Недельный профит с ресами
A14: Krao Cave | B14: 3 | C14: 80 | D14: 400000 | E14: ='Расчет ресурсов'!S5 -> 421000 | F14: =D14+E14 -> 821000 | G14: =$B$10 -> 30.5 | H14: =G14*B14/60 -> 1.525 | I14: =D14/(B14/60) -> 8000000 | J14: =F14/(B14/60) -> 16420000 | K14: =IF(G14<=84, G14*D14, IF(G14<=105, 84*D14 + (G14-84)*D14*0.8, 84*D14 + 21*D14*0.8 + (G14-105)*D14*0.6)) -> 12200000 | L14: =K14+(G14*E14) -> 25040500
A15: Draupnir | B15: 4 | C15: 80 | D15: 400000 | E15: ='Расчет ресурсов'!S6 -> 421000 | F15: =D15+E15 -> 821000 | G15: =$B$10 -> 30.5 | H15: =G15*B15/60 -> 2.0333333 | I15: =D15/(B15/60) -> 6000000 | J15: =F15/(B15/60) -> 12315000 | K15: =IF(G15<=84, G15*D15, IF(G15<=105, 84*D15 + (G15-84)*D15*0.8, 84*D15 + 21*D15*0.8 + (G15-105)*D15*0.6)) -> 12200000 | L15: =K15+(G15*E15) -> 25040500
A16: Urugugu Canyon | B16: 7 | C16: 80 | D16: 610000 | E16: ='Расчет ресурсов'!S7 -> 557400 | F16: =D16+E16 -> 1167400 | G16: =$B$10 -> 30.5 | H16: =G16*B16/60 -> 3.5583333 | I16: =D16/(B16/60) -> 5228571.4 | J16: =F16/(B16/60) -> 10006286 | K16: =IF(G16<=84, G16*D16, IF(G16<=105, 84*D16 + (G16-84)*D16*0.8, 84*D16 + 21*D16*0.8 + (G16-105)*D16*0.6)) -> 18605000 | L16: =K16+(G16*E16) -> 35605700
A17: Vakron Sky Island | B17: 7 | C17: 80 | D17: 610000 | E17: ='Расчет ресурсов'!S8 -> 557400 | F17: =D17+E17 -> 1167400 | G17: =$B$10 -> 30.5 | H17: =G17*B17/60 -> 3.5583333 | I17: =D17/(B17/60) -> 5228571.4 | J17: =F17/(B17/60) -> 10006286 | K17: =IF(G17<=84, G17*D17, IF(G17<=105, 84*D17 + (G17-84)*D17*0.8, 84*D17 + 21*D17*0.8 + (G17-105)*D17*0.6)) -> 18605000 | L17: =K17+(G17*E17) -> 35605700
A18: Fire Temple | B18: 4 | C18: 80 | D18: 820000 | E18: ='Расчет ресурсов'!S9 -> 257600 | F18: =D18+E18 -> 1077600 | G18: =$B$10 -> 30.5 | H18: =G18*B18/60 -> 2.0333333 | I18: =D18/(B18/60) -> 12300000 | J18: =F18/(B18/60) -> 16164000 | K18: =IF(G18<=84, G18*D18, IF(G18<=105, 84*D18 + (G18-84)*D18*0.8, 84*D18 + 21*D18*0.8 + (G18-105)*D18*0.6)) -> 25010000 | L18: =K18+(G18*E18) -> 32866800
A19: Ferocious Horn Den | B19: 7 | C19: 80 | D19: 820000 | E19: ='Расчет ресурсов'!S10 -> 257600 | F19: =D19+E19 -> 1077600 | G19: =$B$10 -> 30.5 | H19: =G19*B19/60 -> 3.5583333 | I19: =D19/(B19/60) -> 7028571.4 | J19: =F19/(B19/60) -> 9236571.4 | K19: =IF(G19<=84, G19*D19, IF(G19<=105, 84*D19 + (G19-84)*D19*0.8, 84*D19 + 21*D19*0.8 + (G19-105)*D19*0.6)) -> 25010000 | L19: =K19+(G19*E19) -> 32866800
A20: Кинара за Conquest данжи штрафуется после 84 прохождений -20%, а после 105 прохождений еще на -20% (итого -40%) Ресурсы не штрафуются.
A22: https://www.youtube.com/@LootStatGAME видео по фарму данжей за разные классы тут
A23: TRANSCENDENCE ДАНЖИ — расчет недельной доходности со штрафами
A24: Название данжа | B24: Время (мин) | C24: Энергия/заход | D24: Чистая кинара | E24: Средний профит с ресов за ран | F24: Средний профит за ран | G24: Заходов в неделю | H24: Часов в неделю | I24: Профит в час без ресов | J24: Профит в час с ресами | K24: Недельный профит | L24: Недельный профит с ресами
A25: Deus/Arkanis Stage 1 | B25: 4 | C25: 80 | D25: 400000 | E25: ='Расчет ресурсов'!S11 -> 50400 | F25: =D25+E25 -> 450400 | G25: =$B$10 -> 30.5 | H25: =G25*B25/60 -> 2.0333333 | I25: =D25/(B25/60) -> 6000000 | J25: =F25/(B25/60) -> 6756000 | K25: =IF(G25<=54, G25*D25, 54*D25 + (G25-54)*D25*0.8) -> 12200000 | L25: =K25+(G25*E25) -> 13737200
A26: Deus/Arkanis Stage 2 | B26: 5 | C26: 80 | D26: 520000 | E26: ='Расчет ресурсов'!S12 -> 54600 | F26: =D26+E26 -> 574600 | G26: =$B$10 -> 30.5 | H26: =G26*B26/60 -> 2.5416667 | I26: =D26/(B26/60) -> 6240000 | J26: =F26/(B26/60) -> 6895200 | K26: =IF(G26<=54, G26*D26, 54*D26 + (G26-54)*D26*0.8) -> 15860000 | L26: =K26+(G26*E26) -> 17525300
A27: Deus/Arkanis Stage 3 | B27: 6 | C27: 80 | D27: 700000 | E27: ='Расчет ресурсов'!S13 -> 392000 | F27: =D27+E27 -> 1092000 | G27: =$B$10 -> 30.5 | H27: =G27*B27/60 -> 3.05 | I27: =D27/(B27/60) -> 7000000 | J27: =F27/(B27/60) -> 10920000 | K27: =IF(G27<=54, G27*D27, 54*D27 + (G27-54)*D27*0.8) -> 21350000 | L27: =K27+(G27*E27) -> 33306000
A28: Deus/Arkanis Stage 4 | B28: 7 | C28: 80 | D28: 940000 | E28: ='Расчет ресурсов'!S14 -> 483000 | F28: =D28+E28 -> 1423000 | G28: =$B$10 -> 30.5 | H28: =G28*B28/60 -> 3.5583333 | I28: =D28/(B28/60) -> 8057142.9 | J28: =F28/(B28/60) -> 12197143 | K28: =IF(G28<=54, G28*D28, 54*D28 + (G28-54)*D28*0.8) -> 28670000 | L28: =K28+(G28*E28) -> 43401500
A29: Кинара за Transcendence данжи штрафуется после 55 прохождения -20%, а после 69 прохождения еще на -20% (итого -40%) Ресурсы не штрафуются.

Sheet Расчет ресурсов
A1: Детализация расчета ценности ресурсов за 1 заход
A2: Все цены указаны в кинарах. Расчет производится на основе шансов выпадения.
A4: Название данжа | B4: Тип данжа | C4: Осн. ресурс | D4: Цена реса | E4: Шанс на рес | F4: Средний профит с реса за ран | G4: Unique Amp | H4: Цена Unique amplify | I4: Шанс Unique | J4: Мин шт | K4: Макс шт | L4: Ср. Unique | M4: Heroic Amp | N4: Цена Heroic amplify | O4: Шанс Heroic | P4: Мин шт | Q4: Макс шт | R4: Ср. Heroic | S4: Средний профит с ресурсов за заход
A5: Krao Cave | B5: Conquest | C5: Особый ресурс | D5: 4000000 | E5: 0.1 | F5: =D5*E5 -> 400000 | G5: Unique Amplify | H5: ='Калькулятор'!$E$5 -> 12000 | I5: 0.7 | J5: 1 | K5: 4 | L5: =H5*I5*(J5+K5)/2 -> 21000 | M5: Heroic Amplify | N5: ='Калькулятор'!$E$6 -> 40000 | O5: 0 | P5: 0 | Q5: 0 | R5: =N5*O5*(P5+Q5)/2 -> 0 | S5: =F5+L5+R5 -> 421000
A6: Draupnir | B6: Conquest | C6: Особый ресурс | D6: 4000000 | E6: 0.1 | F6: =D6*E6 -> 400000 | G6: Unique Amplify | H6: ='Калькулятор'!$E$5 -> 12000 | I6: 0.7 | J6: 1 | K6: 4 | L6: =H6*I6*(J6+K6)/2 -> 21000 | M6: Heroic Amplify | N6: ='Калькулятор'!$E$6 -> 40000 | O6: 0 | P6: 0 | Q6: 0 | R6: =N6*O6*(P6+Q6)/2 -> 0 | S6: =F6+L6+R6 -> 421000
A7: Urugugu Canyon | B7: Conquest | C7: Особый ресурс | D7: 4400000 | E7: 0.12 | F7: =D7*E7 -> 528000 | G7: Unique Amplify | H7: ='Калькулятор'!$E$5 -> 12000 | I7: 0.7 | J7: 1 | K7: 6 | L7: =H7*I7*(J7+K7)/2 -> 29400 | M7: Heroic Amplify | N7: ='Калькулятор'!$E$6 -> 40000 | O7: 0 | P7: 0 | Q7: 0 | R7: =N7*O7*(P7+Q7)/2 -> 0 | S7: =F7+L7+R7 -> 557400
A8: Vakron Sky Island | B8: Conquest | C8: Особый ресурс | D8: 4400000 | E8: 0.12 | F8: =D8*E8 -> 528000 | G8: Unique Amplify | H8: ='Калькулятор'!$E$5 -> 12000 | I8: 0.7 | J8: 1 | K8: 6 | L8: =H8*I8*(J8+K8)/2 -> 29400 | M8: Heroic Amplify | N8: ='Калькулятор'!$E$6 -> 40000 | O8: 0 | P8: 0 | Q8: 0 | R8: =N8*O8*(P8+Q8)/2 -> 0 | S8: =F8+L8+R8 -> 557400
A9: Fire Temple | B9: Conquest | C9: Особый ресурс | D9: 700000 | E9: 0.16 | F9: =D9*E9 -> 112000 | G9: Unique Amplify | H9: ='Калькулятор'!$E$5 -> 12000 | I9: 0.7 | J9: 1 | K9: 7 | L9: =H9*I9*(J9+K9)/2 -> 33600 | M9: Heroic Amplify | N9: ='Калькулятор'!$E$6 -> 40000 | O9: 0.7 | P9: 1 | Q9: 7 | R9: =N9*O9*(P9+Q9)/2 -> 112000 | S9: =F9+L9+R9 -> 257600
A10: Ferocious Horn Den | B10: Conquest | C10: Особый ресурс | D10: 700000 | E10: 0.16 | F10: =D10*E10 -> 112000 | G10: Unique Amplify | H10: ='Калькулятор'!$E$5 -> 12000 | I10: 0.7 | J10: 1 | K10: 7 | L10: =H10*I10*(J10+K10)/2 -> 33600 | M10: Heroic Amplify | N10: ='Калькулятор'!$E$6 -> 40000 | O10: 0.7 | P10: 1 | Q10: 7 | R10: =N10*O10*(P10+Q10)/2 -> 112000 | S10: =F10+L10+R10 -> 257600
A11: Deus/Arkanis Stage 1 | B11: Transcendence | C11: Нет | D11: 0 | E11: 0 | F11: =D11*E11 -> 0 | G11: Unique Amplify | H11: ='Калькулятор'!$E$5 -> 12000 | I11: 0.7 | J11: 1 | K11: 11 | L11: =H11*I11*(J11+K11)/2 -> 50400 | M11: Heroic Amplify | N11: ='Калькулятор'!$E$6 -> 40000 | O11: 0 | P11: 0 | Q11: 0 | R11: =N11*O11*(P11+Q11)/2 -> 0 | S11: =F11+L11+R11 -> 50400
A12: Deus/Arkanis Stage 2 | B12: Transcendence | C12: Нет | D12: 0 | E12: 0 | F12: =D12*E12 -> 0 | G12: Unique Amplify | H12: ='Калькулятор'!$E$5 -> 12000 | I12: 0.7 | J12: 1 | K12: 12 | L12: =H12*I12*(J12+K12)/2 -> 54600 | M12: Heroic Amplify | N12: ='Калькулятор'!$E$6 -> 40000 | O12: 0 | P12: 0 | Q12: 0 | R12: =N12*O12*(P12+Q12)/2 -> 0 | S12: =F12+L12+R12 -> 54600
A13: Deus/Arkanis Stage 3 | B13: Transcendence | C13: Особый ресурс | D13: 400000 | E13: 0.07 | F13: =D13*E13 -> 28000 | G13: Unique Amplify | H13: ='Калькулятор'!$E$5 -> 12000 | I13: 0.7 | J13: 1 | K13: 19 | L13: =H13*I13*(J13+K13)/2 -> 84000 | M13: Heroic Amplify | N13: ='Калькулятор'!$E$6 -> 40000 | O13: 0.7 | P13: 1 | Q13: 19 | R13: =N13*O13*(P13+Q13)/2 -> 280000 | S13: =F13+L13+R13 -> 392000
A14: Deus/Arkanis Stage 4 | B14: Transcendence | C14: Особый ресурс | D14: 400000 | E14: 0.07 | F14: =D14*E14 -> 28000 | G14: Unique Amplify | H14: ='Калькулятор'!$E$5 -> 12000 | I14: 0.7 | J14: 1 | K14: 24 | L14: =H14*I14*(J14+K14)/2 -> 105000 | M14: Heroic Amplify | N14: ='Калькулятор'!$E$6 -> 40000 | O14: 0.7 | P14: 1 | Q14: 24 | R14: =N14*O14*(P14+Q14)/2 -> 350000 | S14: =F14+L14+R14 -> 483000
